BEGIN:VCALENDAR
VERSION:2.0
PRODID:icalendar-ruby
CALSCALE:GREGORIAN
METHOD:PUBLISH
BEGIN:VEVENT
DTSTAMP:20260421T124335Z
UID:355-1061313@evangelnapanee.com
DTSTART:20260508T230000Z
DTEND:20260509T010000Z
CLASS:PUBLIC
CREATED:20260420T113008
DESCRIPTION:Three moms deciede to have a night out...things do not go as pl
 anned.
LAST-MODIFIED:20260420T113008
LOCATION:320 Bridge St. W.
SUMMARY:Ladies Movie Night
URL;VALUE=URI:https://www.evangelnapanee.com/events/ladies-movie-night/2026
 -05-08
ATTACH;FILENAME=Ladies Movie Night (2).png;FMTTYPE=image/png:https://dq5pwp
 g1q8ru0.cloudfront.net/2026/04/20/15/30/08/c2fc0d53-6d68-43b5-96b9-5b6290d
 63b26/Ladies%20Movie%20Night%20(2).png
END:VEVENT
END:VCALENDAR
